BEGIN:VCALENDAR
VERSION:2.0
PRODID:-//Individual Psychology Training CIC - ECPv6.15.20//NONSGML v1.0//EN
CALSCALE:GREGORIAN
METHOD:PUBLISH
X-WR-CALNAME:Individual Psychology Training CIC
X-ORIGINAL-URL:https://individualpsychologytraining.co.uk
X-WR-CALDESC:Events for Individual Psychology Training CIC
REFRESH-INTERVAL;VALUE=DURATION:PT1H
X-Robots-Tag:noindex
X-PUBLISHED-TTL:PT1H
BEGIN:VTIMEZONE
TZID:Europe/London
BEGIN:DAYLIGHT
TZOFFSETFROM:+0000
TZOFFSETTO:+0100
TZNAME:BST
DTSTART:20210328T010000
END:DAYLIGHT
BEGIN:STANDARD
TZOFFSETFROM:+0100
TZOFFSETTO:+0000
TZNAME:GMT
DTSTART:20211031T010000
END:STANDARD
BEGIN:DAYLIGHT
TZOFFSETFROM:+0000
TZOFFSETTO:+0100
TZNAME:BST
DTSTART:20220327T010000
END:DAYLIGHT
BEGIN:STANDARD
TZOFFSETFROM:+0100
TZOFFSETTO:+0000
TZNAME:GMT
DTSTART:20221030T010000
END:STANDARD
BEGIN:DAYLIGHT
TZOFFSETFROM:+0000
TZOFFSETTO:+0100
TZNAME:BST
DTSTART:20230326T010000
END:DAYLIGHT
BEGIN:STANDARD
TZOFFSETFROM:+0100
TZOFFSETTO:+0000
TZNAME:GMT
DTSTART:20231029T010000
END:STANDARD
END:VTIMEZONE
BEGIN:VEVENT
DTSTART;TZID=Europe/London:20220924T100000
DTEND;TZID=Europe/London:20220924T160000
DTSTAMP:20260422T234615
CREATED:20220907T155153Z
LAST-MODIFIED:20220907T222758Z
UID:555-1664013600-1664035200@individualpsychologytraining.co.uk
SUMMARY:(ASOW) Neurodiversity CPD day
DESCRIPTION:Neurodiversity (online)\n\n\n\nwith Dr Clare Scott\n\n\n\nhttp://www.adleriansocietywales.org.uk/cpd/neurodiversity-online/
URL:https://individualpsychologytraining.co.uk/event/asow-neurodiversity-cpd-day/
LOCATION:Online
CATEGORIES:ASOW
END:VEVENT
END:VCALENDAR