BEGIN:VCALENDAR
VERSION:2.0
PRODID:-//Individual Psychology Training CIC - ECPv6.15.20//NONSGML v1.0//EN
CALSCALE:GREGORIAN
METHOD:PUBLISH
X-WR-CALNAME:Individual Psychology Training CIC
X-ORIGINAL-URL:https://individualpsychologytraining.co.uk
X-WR-CALDESC:Events for Individual Psychology Training CIC
REFRESH-INTERVAL;VALUE=DURATION:PT1H
X-Robots-Tag:noindex
X-PUBLISHED-TTL:PT1H
BEGIN:VTIMEZONE
TZID:Europe/London
BEGIN:DAYLIGHT
TZOFFSETFROM:+0000
TZOFFSETTO:+0100
TZNAME:BST
DTSTART:20210328T010000
END:DAYLIGHT
BEGIN:STANDARD
TZOFFSETFROM:+0100
TZOFFSETTO:+0000
TZNAME:GMT
DTSTART:20211031T010000
END:STANDARD
BEGIN:DAYLIGHT
TZOFFSETFROM:+0000
TZOFFSETTO:+0100
TZNAME:BST
DTSTART:20220327T010000
END:DAYLIGHT
BEGIN:STANDARD
TZOFFSETFROM:+0100
TZOFFSETTO:+0000
TZNAME:GMT
DTSTART:20221030T010000
END:STANDARD
BEGIN:DAYLIGHT
TZOFFSETFROM:+0000
TZOFFSETTO:+0100
TZNAME:BST
DTSTART:20230326T010000
END:DAYLIGHT
BEGIN:STANDARD
TZOFFSETFROM:+0100
TZOFFSETTO:+0000
TZNAME:GMT
DTSTART:20231029T010000
END:STANDARD
BEGIN:DAYLIGHT
TZOFFSETFROM:+0000
TZOFFSETTO:+0100
TZNAME:BST
DTSTART:20240331T010000
END:DAYLIGHT
BEGIN:STANDARD
TZOFFSETFROM:+0100
TZOFFSETTO:+0000
TZNAME:GMT
DTSTART:20241027T010000
END:STANDARD
BEGIN:DAYLIGHT
TZOFFSETFROM:+0000
TZOFFSETTO:+0100
TZNAME:BST
DTSTART:20250330T010000
END:DAYLIGHT
BEGIN:STANDARD
TZOFFSETFROM:+0100
TZOFFSETTO:+0000
TZNAME:GMT
DTSTART:20251026T010000
END:STANDARD
END:VTIMEZONE
BEGIN:VEVENT
DTSTART;TZID=Europe/London:20240224T100000
DTEND;TZID=Europe/London:20240224T160000
DTSTAMP:20260421T183335
CREATED:20231201T164720Z
LAST-MODIFIED:20231201T164723Z
UID:654-1708768800-1708790400@individualpsychologytraining.co.uk
SUMMARY:CPD Day - Equality\, Diversity & Inclusion with Claire Quinn
DESCRIPTION:To sign up for this training\, please email us at info@individualpsychologytraining.co.uk
URL:https://individualpsychologytraining.co.uk/event/cpd-day-equality-diversity-inclusion-with-claire-quinn/
LOCATION:Mwldan Business Centre\, Cardigan\, Mwldan Business Centre\, Cardigan\, SA43 1JY\, United Kingdom
END:VEVENT
BEGIN:VEVENT
DTSTART;TZID=Europe/London:20240203T100000
DTEND;TZID=Europe/London:20240204T170000
DTSTAMP:20260421T183335
CREATED:20231201T164126Z
LAST-MODIFIED:20231201T164129Z
UID:648-1706954400-1707066000@individualpsychologytraining.co.uk
SUMMARY:Introduction to Adlerian Counselling (Weekend 1)
DESCRIPTION:The first Introduction to Adlerian Counselling course of 2024 begins with a face to face weekend near Narberth\, Pembrokeshire. \n\n\n\nThe course continues with 4 Tuesday evening webinars\, and a second face to face weekend in March. \n\n\n\nFor more information on this course\, click here.
URL:https://individualpsychologytraining.co.uk/event/introduction-to-adlerian-counselling-weekend-1/
END:VEVENT
BEGIN:VEVENT
DTSTART;TZID=Europe/London:20230610T100000
DTEND;TZID=Europe/London:20230610T170000
DTSTAMP:20260421T183335
CREATED:20230531T153314Z
LAST-MODIFIED:20230531T153316Z
UID:610-1686391200-1686416400@individualpsychologytraining.co.uk
SUMMARY:Introduction to Adlerian Psychology
DESCRIPTION:
URL:https://individualpsychologytraining.co.uk/event/introduction-to-adlerian-psychology/
LOCATION:Canaston Bridge Well Being\, Llandewi Velfrey
END:VEVENT
BEGIN:VEVENT
DTSTART;TZID=Europe/London:20220924T100000
DTEND;TZID=Europe/London:20220924T160000
DTSTAMP:20260421T183335
CREATED:20220907T155153Z
LAST-MODIFIED:20220907T222758Z
UID:555-1664013600-1664035200@individualpsychologytraining.co.uk
SUMMARY:(ASOW) Neurodiversity CPD day
DESCRIPTION:Neurodiversity (online)\n\n\n\nwith Dr Clare Scott\n\n\n\nhttp://www.adleriansocietywales.org.uk/cpd/neurodiversity-online/
URL:https://individualpsychologytraining.co.uk/event/asow-neurodiversity-cpd-day/
LOCATION:Online
CATEGORIES:ASOW
END:VEVENT
END:VCALENDAR